BEGIN:VCALENDAR
VERSION:2.0
PRODID:-//Wild Stroud - Gardening for Wildlife - ECPv6.15.20//NONSGML v1.0//EN
CALSCALE:GREGORIAN
METHOD:PUBLISH
X-WR-CALNAME:Wild Stroud - Gardening for Wildlife
X-ORIGINAL-URL:https://wildstroud.org
X-WR-CALDESC:Events for Wild Stroud - Gardening for Wildlife
REFRESH-INTERVAL;VALUE=DURATION:PT1H
X-Robots-Tag:noindex
X-PUBLISHED-TTL:PT1H
BEGIN:VTIMEZONE
TZID:Europe/London
BEGIN:DAYLIGHT
TZOFFSETFROM:+0000
TZOFFSETTO:+0100
TZNAME:BST
DTSTART:20250330T010000
END:DAYLIGHT
BEGIN:STANDARD
TZOFFSETFROM:+0100
TZOFFSETTO:+0000
TZNAME:GMT
DTSTART:20251026T010000
END:STANDARD
BEGIN:DAYLIGHT
TZOFFSETFROM:+0000
TZOFFSETTO:+0100
TZNAME:BST
DTSTART:20260329T010000
END:DAYLIGHT
BEGIN:STANDARD
TZOFFSETFROM:+0100
TZOFFSETTO:+0000
TZNAME:GMT
DTSTART:20261025T010000
END:STANDARD
BEGIN:DAYLIGHT
TZOFFSETFROM:+0000
TZOFFSETTO:+0100
TZNAME:BST
DTSTART:20270328T010000
END:DAYLIGHT
BEGIN:STANDARD
TZOFFSETFROM:+0100
TZOFFSETTO:+0000
TZNAME:GMT
DTSTART:20271031T010000
END:STANDARD
END:VTIMEZONE
BEGIN:VEVENT
DTSTART;TZID=Europe/London:20260425T093000
DTEND;TZID=Europe/London:20260425T140000
DTSTAMP:20260425T112303
CREATED:20251126T103741Z
LAST-MODIFIED:20251126T143938Z
UID:9533-1777109400-1777125600@wildstroud.org
SUMMARY:Wild Stroud Wildflower Plant Sale
DESCRIPTION:It’s becoming an annual event….  The Wild Stroud Wildflower Plant sale.  We expect to have a range of the following: Knapweed\, Scabious\, Red Campion\, Purple Loosestrife\, Hissop\, Clovers\, Wild Marjoram\, Comfrey\, Calendula\, Birdsfoot Trefoil\, Pulmonaria\, Foxgloves\, Fennel\, Rock Roses\, Cranesbill and many .  Bring a box or bag with you for your plants. \nWe are delighted that  5 Valley Seed Savers will join us with a selection of locally grown seeds. \nEvent held in Castle Street\, Stroud GL5 2HP \nCash or Card taken on the day
URL:https://wildstroud.org/event/wildflower-plant-sale/
LOCATION:2 Castle Villas\, Stroud GL5 2HP\, 2 Castle Villas\, Castle Street\, Stroud\, GL5 2HP
CATEGORIES:Community Event,Open Garden,Plant Sale,Wildlife & Nature
ATTACH;FMTTYPE=image/jpeg:https://wildstroud.org/wp-content/uploads/2023/03/EventsCalenderPlantsale.jpg
ORGANIZER;CN="Wild Stroud":MAILTO:wildstroud@gmail.com
END:VEVENT
END:VCALENDAR