BEGIN:VCALENDAR
VERSION:2.0
PRODID:-//Wild Stroud - Gardening for Wildlife - ECPv6.15.20//NONSGML v1.0//EN
CALSCALE:GREGORIAN
METHOD:PUBLISH
X-ORIGINAL-URL:https://wildstroud.org
X-WR-CALDESC:Events for Wild Stroud - Gardening for Wildlife
REFRESH-INTERVAL;VALUE=DURATION:PT1H
X-Robots-Tag:noindex
X-PUBLISHED-TTL:PT1H
BEGIN:VTIMEZONE
TZID:Europe/London
BEGIN:DAYLIGHT
TZOFFSETFROM:+0000
TZOFFSETTO:+0100
TZNAME:BST
DTSTART:20250330T010000
END:DAYLIGHT
BEGIN:STANDARD
TZOFFSETFROM:+0100
TZOFFSETTO:+0000
TZNAME:GMT
DTSTART:20251026T010000
END:STANDARD
BEGIN:DAYLIGHT
TZOFFSETFROM:+0000
TZOFFSETTO:+0100
TZNAME:BST
DTSTART:20260329T010000
END:DAYLIGHT
BEGIN:STANDARD
TZOFFSETFROM:+0100
TZOFFSETTO:+0000
TZNAME:GMT
DTSTART:20261025T010000
END:STANDARD
BEGIN:DAYLIGHT
TZOFFSETFROM:+0000
TZOFFSETTO:+0100
TZNAME:BST
DTSTART:20270328T010000
END:DAYLIGHT
BEGIN:STANDARD
TZOFFSETFROM:+0100
TZOFFSETTO:+0000
TZNAME:GMT
DTSTART:20271031T010000
END:STANDARD
END:VTIMEZONE
BEGIN:VEVENT
DTSTART;TZID=Europe/London:20260905T093000
DTEND;TZID=Europe/London:20260905T160000
DTSTAMP:20260420T100204
CREATED:20260119T180158Z
LAST-MODIFIED:20260119T180158Z
UID:9861-1788600600-1788624000@wildstroud.org
SUMMARY:Propagation Masterclass: Cuttings and Division
DESCRIPTION:This relaxed and friendly course aims to grow your skills and knowledge in propagation techniques\, enabling you to produce plants at home with confidence. \nLearn how to produce a variety of garden plants through vegetative propagation – including semi-ripe cuttings and by division. Lavender\, rosemary\, shrubby salvias and penstemons are just some of the plants that can be propagated by cuttings at this time of year with many others by division\, including hardy geraniums and geums. This involves lifting the plant from the ground and separating into smaller pieces for replanting or growing on in pots. Dividing perennials regularly encourages healthy\, vigorous plants which perform year after year. \nYou’ll also get tips on the best tools\, containers and growing media to use and advice on how to grow on your plants. You’ll be encouraged to ask questions and will take home your potted cuttings.
URL:https://wildstroud.org/event/propagation-masterclass-cuttings-and-division/
LOCATION:Hawkwood\, Painswick Old Road\, Stroud\, GL6 7QW
CATEGORIES:Environment,Wildlife & Nature,Workshop
ATTACH;FMTTYPE=image/jpeg:https://wildstroud.org/wp-content/uploads/2026/01/GS16-9EV-GArdendesign.jpg
ORGANIZER;CN="Hawkwood":MAILTO:info@hawkwoodcollege.co.uk
END:VEVENT
END:VCALENDAR