BEGIN:VCALENDAR
VERSION:2.0
PRODID:-//Wild Stroud - Gardening for Wildlife - ECPv6.15.20//NONSGML v1.0//EN
CALSCALE:GREGORIAN
METHOD:PUBLISH
X-ORIGINAL-URL:https://wildstroud.org
X-WR-CALDESC:Events for Wild Stroud - Gardening for Wildlife
REFRESH-INTERVAL;VALUE=DURATION:PT1H
X-Robots-Tag:noindex
X-PUBLISHED-TTL:PT1H
BEGIN:VTIMEZONE
TZID:Europe/London
BEGIN:DAYLIGHT
TZOFFSETFROM:+0000
TZOFFSETTO:+0100
TZNAME:BST
DTSTART:20240331T010000
END:DAYLIGHT
BEGIN:STANDARD
TZOFFSETFROM:+0100
TZOFFSETTO:+0000
TZNAME:GMT
DTSTART:20241027T010000
END:STANDARD
BEGIN:DAYLIGHT
TZOFFSETFROM:+0000
TZOFFSETTO:+0100
TZNAME:BST
DTSTART:20250330T010000
END:DAYLIGHT
BEGIN:STANDARD
TZOFFSETFROM:+0100
TZOFFSETTO:+0000
TZNAME:GMT
DTSTART:20251026T010000
END:STANDARD
BEGIN:DAYLIGHT
TZOFFSETFROM:+0000
TZOFFSETTO:+0100
TZNAME:BST
DTSTART:20260329T010000
END:DAYLIGHT
BEGIN:STANDARD
TZOFFSETFROM:+0100
TZOFFSETTO:+0000
TZNAME:GMT
DTSTART:20261025T010000
END:STANDARD
END:VTIMEZONE
BEGIN:VEVENT
DTSTART;TZID=Europe/London:20251221T140000
DTEND;TZID=Europe/London:20251221T153000
DTSTAMP:20260420T100446
CREATED:20251208T101635Z
LAST-MODIFIED:20251208T101635Z
UID:9607-1766325600-1766331000@wildstroud.org
SUMMARY:Winter Forest Church
DESCRIPTION:An outdoor Winter Solstice/Christmas celebration within a beautiful wood\, campfire\, carols\, crafts and non-alcoholic mulled wine and mince pies. For those of faith or none\, all are welcome\, all ages. Meet at Rodborough Tab URC car park GL5 3UJ and walk down to site as no parking. Anyone with mobility issues can be dropped off at the site\, please contact Kim for more info 07481 186100.
URL:https://wildstroud.org/event/winter-forest-church/
LOCATION:Rodborough Tabernacle
CATEGORIES:Community Event,Meeting,Social,Wildlife & Nature
ATTACH;FMTTYPE=image/jpeg:https://wildstroud.org/wp-content/uploads/2025/12/Winter-FOREST-CHURCH-169.jpg
ORGANIZER;CN="Rodborough Tabernacle URC":MAILTO:kim.baker@rodboroughtab.org.uk
END:VEVENT
END:VCALENDAR