BEGIN:VCALENDAR
VERSION:2.0
PRODID:-//Wild Stroud - Gardening for Wildlife - ECPv6.15.20//NONSGML v1.0//EN
CALSCALE:GREGORIAN
METHOD:PUBLISH
X-ORIGINAL-URL:https://wildstroud.org
X-WR-CALDESC:Events for Wild Stroud - Gardening for Wildlife
REFRESH-INTERVAL;VALUE=DURATION:PT1H
X-Robots-Tag:noindex
X-PUBLISHED-TTL:PT1H
BEGIN:VTIMEZONE
TZID:Europe/London
BEGIN:DAYLIGHT
TZOFFSETFROM:+0000
TZOFFSETTO:+0100
TZNAME:BST
DTSTART:20250330T010000
END:DAYLIGHT
BEGIN:STANDARD
TZOFFSETFROM:+0100
TZOFFSETTO:+0000
TZNAME:GMT
DTSTART:20251026T010000
END:STANDARD
BEGIN:DAYLIGHT
TZOFFSETFROM:+0000
TZOFFSETTO:+0100
TZNAME:BST
DTSTART:20260329T010000
END:DAYLIGHT
BEGIN:STANDARD
TZOFFSETFROM:+0100
TZOFFSETTO:+0000
TZNAME:GMT
DTSTART:20261025T010000
END:STANDARD
BEGIN:DAYLIGHT
TZOFFSETFROM:+0000
TZOFFSETTO:+0100
TZNAME:BST
DTSTART:20270328T010000
END:DAYLIGHT
BEGIN:STANDARD
TZOFFSETFROM:+0100
TZOFFSETTO:+0000
TZNAME:GMT
DTSTART:20271031T010000
END:STANDARD
END:VTIMEZONE
BEGIN:VEVENT
DTSTART;TZID=Europe/London:20260201T093000
DTEND;TZID=Europe/London:20260201T150000
DTSTAMP:20260420T095854
CREATED:20251126T111401Z
LAST-MODIFIED:20260112T085823Z
UID:9522-1769938200-1769958000@wildstroud.org
SUMMARY:Introduction to Lichen (FULLY BOOKED)
DESCRIPTION:Discover the Hidden World of Lichens  \nUnlock a whole new layer of the natural world with our immersive Introduction to Lichens workshop. Whether you’re a nature lover\, hiker\, photographer\, or simply curious about the tiny wonders living all around you\, this hands-on experience will change the way you see your environment forever. \nLichens are everywhere—on trees\, rocks\, rooftops\, and paths—but most people walk right past them without ever knowing the astonishing story behind them. They’re not plants. They’re not fungi. They’re something far more fascinating: a remarkable partnership between organisms living and thriving together. \n\nDiscover what lichens really are and why they’re unlike anything else in nature\nLearn to recognise the major types—crustose\, foliose\, and fruticose—through interactive demos\nSee how lichens reveal the health of their environment\n\nThis workshop is split into two parts\, and you are welcome to join both or just the classroom sessions.  We’ll spend the morning in the classroom\, exploring and learning the key things about lichen and then head out to Bisley Road Cemetery\, where you can use your new skills to find and identify lichens in the wild.
URL:https://wildstroud.org/event/introduction-lichen-workshop/
LOCATION:The Pavilion\, Victory Park\, Lower Church Road\, Cainscross\, Stroud\, GL5 4JE
CATEGORIES:Talk,Walk,Wildlife & Nature,Workshop
ATTACH;FMTTYPE=image/jpeg:https://wildstroud.org/wp-content/uploads/2025/11/PPFSopen.jpg
ORGANIZER;CN="Wild Stroud":MAILTO:wildstroud@gmail.com
END:VEVENT
END:VCALENDAR