BEGIN:VCALENDAR
VERSION:2.0
PRODID:-//Wild Stroud - Gardening for Wildlife - ECPv6.15.20//NONSGML v1.0//EN
CALSCALE:GREGORIAN
METHOD:PUBLISH
X-ORIGINAL-URL:https://wildstroud.org
X-WR-CALDESC:Events for Wild Stroud - Gardening for Wildlife
REFRESH-INTERVAL;VALUE=DURATION:PT1H
X-Robots-Tag:noindex
X-PUBLISHED-TTL:PT1H
BEGIN:VTIMEZONE
TZID:Europe/London
BEGIN:DAYLIGHT
TZOFFSETFROM:+0000
TZOFFSETTO:+0100
TZNAME:BST
DTSTART:20250330T010000
END:DAYLIGHT
BEGIN:STANDARD
TZOFFSETFROM:+0100
TZOFFSETTO:+0000
TZNAME:GMT
DTSTART:20251026T010000
END:STANDARD
BEGIN:DAYLIGHT
TZOFFSETFROM:+0000
TZOFFSETTO:+0100
TZNAME:BST
DTSTART:20260329T010000
END:DAYLIGHT
BEGIN:STANDARD
TZOFFSETFROM:+0100
TZOFFSETTO:+0000
TZNAME:GMT
DTSTART:20261025T010000
END:STANDARD
BEGIN:DAYLIGHT
TZOFFSETFROM:+0000
TZOFFSETTO:+0100
TZNAME:BST
DTSTART:20270328T010000
END:DAYLIGHT
BEGIN:STANDARD
TZOFFSETFROM:+0100
TZOFFSETTO:+0000
TZNAME:GMT
DTSTART:20271031T010000
END:STANDARD
END:VTIMEZONE
BEGIN:VEVENT
DTSTART;TZID=Europe/London:20260614T093000
DTEND;TZID=Europe/London:20260614T160000
DTSTAMP:20260420T095952
CREATED:20251126T123130Z
LAST-MODIFIED:20251126T123645Z
UID:9535-1781429400-1781452800@wildstroud.org
SUMMARY:Identification of the Wild Flowers of Our Commons
DESCRIPTION:From Classroom to Countryside\nJoin us for a day exploring the beauty and diversity of our local wildflowers. This hands-on workshop introduces the basics of flower taxonomy\, helping you understand how different plant families are organised and how to recognise the key features that distinguish one species from another. We’ll look closely at the wildflowers found on our local commons\, learning the indicators that make identification easier in the field. \nIn the morning\, we’ll work with fresh specimens in the classroom\, practising with identification keys and guides to build confidence in spotting key characteristics such as flower shape\, leaf arrangement and growth habit. You’ll have the chance to compare species side by side\, ask questions\, and develop your observation skills in a supportive and friendly environment. \nAfter lunch\, we’ll head out to a nearby nature reserve to put your new skills into practice. During a relaxed guided walk\, we’ll search for and identify plants in their natural habitats\, exploring how soil\, light and landscape influence the species we find. By the end of the day\, you’ll be able to recognise a range of local wildflowers and have a solid foundation for further plant identification. \nWhether you’re a beginner\, a nature enthusiast\, or simply curious about the plants around you\, this workshop offers an enjoyable and informative introduction to the world of wildflowers. \n\nYou are welcome to just join us for the classroom session 0930 – 1230\nBring a picnic – if the weather is nice we’ll head out and have lunch on site\n** please note the practical session is not wheelchair accessible
URL:https://wildstroud.org/event/identification-of-the-wild-flowers-of-our-commons/
LOCATION:The Pavilion\, Victory Park\, Lower Church Road\, Cainscross\, Stroud\, GL5 4JE
CATEGORIES:Walk,Wildlife & Nature,Workshop
ATTACH;FMTTYPE=image/jpeg:https://wildstroud.org/wp-content/uploads/2025/11/WSEmeadowID.jpg
ORGANIZER;CN="Wild Stroud":MAILTO:wildstroud@gmail.com
END:VEVENT
END:VCALENDAR