BEGIN:VCALENDAR
VERSION:2.0
PRODID:-//Wild Stroud - Gardening for Wildlife - ECPv6.15.20//NONSGML v1.0//EN
CALSCALE:GREGORIAN
METHOD:PUBLISH
X-WR-CALNAME:Wild Stroud - Gardening for Wildlife
X-ORIGINAL-URL:https://wildstroud.org
X-WR-CALDESC:Events for Wild Stroud - Gardening for Wildlife
REFRESH-INTERVAL;VALUE=DURATION:PT1H
X-Robots-Tag:noindex
X-PUBLISHED-TTL:PT1H
BEGIN:VTIMEZONE
TZID:Europe/London
BEGIN:DAYLIGHT
TZOFFSETFROM:+0000
TZOFFSETTO:+0100
TZNAME:BST
DTSTART:20250330T010000
END:DAYLIGHT
BEGIN:STANDARD
TZOFFSETFROM:+0100
TZOFFSETTO:+0000
TZNAME:GMT
DTSTART:20251026T010000
END:STANDARD
BEGIN:DAYLIGHT
TZOFFSETFROM:+0000
TZOFFSETTO:+0100
TZNAME:BST
DTSTART:20260329T010000
END:DAYLIGHT
BEGIN:STANDARD
TZOFFSETFROM:+0100
TZOFFSETTO:+0000
TZNAME:GMT
DTSTART:20261025T010000
END:STANDARD
BEGIN:DAYLIGHT
TZOFFSETFROM:+0000
TZOFFSETTO:+0100
TZNAME:BST
DTSTART:20270328T010000
END:DAYLIGHT
BEGIN:STANDARD
TZOFFSETFROM:+0100
TZOFFSETTO:+0000
TZNAME:GMT
DTSTART:20271031T010000
END:STANDARD
END:VTIMEZONE
BEGIN:VEVENT
DTSTART;TZID=Europe/London:20261017T100000
DTEND;TZID=Europe/London:20261017T120000
DTSTAMP:20260420T144804
CREATED:20260401T094439Z
LAST-MODIFIED:20260401T122559Z
UID:10287-1792231200-1792238400@wildstroud.org
SUMMARY:Create and Maintain a Wildflower Lawn
DESCRIPTION:October is the perfect time to create a strip of wildflowers in your lawn. Even a tiny corner can make a significant difference to pollinating insects. \nJoin Sally Beacon\, a talented local expert who has mastered the art of transforming ordinary lawns into vibrant wildflower patches. This hands-on workshop will take place in her garden\, where she will guide you through the process of introducing wildflowers into your lawn\, without removing the turf. \nYou’ll learn how to prepare your lawn\, sow seeds effectively\, and understand the best practices for ongoing care and seasonal maintenance.
URL:https://wildstroud.org/event/making-and-maintaining-a-wildflower-lawn-the-easy-way/
LOCATION:Whiteshill\, Spring Villas\, Whiteshill\, United Kingdom
CATEGORIES:Environment,Wildlife & Nature,Workshop
ATTACH;FMTTYPE=image/jpeg:https://wildstroud.org/wp-content/uploads/2024/10/GS16-9kidney.jpg
ORGANIZER;CN="Wild Stroud":MAILTO:wildstroud@gmail.com
END:VEVENT
END:VCALENDAR