BEGIN:VCALENDAR
VERSION:2.0
PRODID:-//Wild Stroud - Gardening for Wildlife - ECPv6.15.20//NONSGML v1.0//EN
CALSCALE:GREGORIAN
METHOD:PUBLISH
X-ORIGINAL-URL:https://wildstroud.org
X-WR-CALDESC:Events for Wild Stroud - Gardening for Wildlife
REFRESH-INTERVAL;VALUE=DURATION:PT1H
X-Robots-Tag:noindex
X-PUBLISHED-TTL:PT1H
BEGIN:VTIMEZONE
TZID:Europe/London
BEGIN:DAYLIGHT
TZOFFSETFROM:+0000
TZOFFSETTO:+0100
TZNAME:BST
DTSTART:20250330T010000
END:DAYLIGHT
BEGIN:STANDARD
TZOFFSETFROM:+0100
TZOFFSETTO:+0000
TZNAME:GMT
DTSTART:20251026T010000
END:STANDARD
BEGIN:DAYLIGHT
TZOFFSETFROM:+0000
TZOFFSETTO:+0100
TZNAME:BST
DTSTART:20260329T010000
END:DAYLIGHT
BEGIN:STANDARD
TZOFFSETFROM:+0100
TZOFFSETTO:+0000
TZNAME:GMT
DTSTART:20261025T010000
END:STANDARD
BEGIN:DAYLIGHT
TZOFFSETFROM:+0000
TZOFFSETTO:+0100
TZNAME:BST
DTSTART:20270328T010000
END:DAYLIGHT
BEGIN:STANDARD
TZOFFSETFROM:+0100
TZOFFSETTO:+0000
TZNAME:GMT
DTSTART:20271031T010000
END:STANDARD
END:VTIMEZONE
BEGIN:VEVENT
DTSTART;TZID=Europe/London:20260317T100000
DTEND;TZID=Europe/London:20260317T153000
DTSTAMP:20260420T100232
CREATED:20260107T100914Z
LAST-MODIFIED:20260107T100914Z
UID:9766-1773741600-1773761400@wildstroud.org
SUMMARY:Orchard Workshop - pruning
DESCRIPTION:This workshop focuses on pruning different fruit trees and managing them to reach their full potential. \nThe Severn Treescapes: Dead Wood Society has created a series of workshops to increase confidence among landowners to plant and look after traditional orchards and fruit trees. This workshop is funded by Wye Valley National Landscape\, Farming in Protected Landscapes. \nBeing a dual-purpose land use\, orchards can provide a vertical farming element to traditional farming and ultimately provide a new income from the fruit\, as well as providing a fabulous habitat for a huge range of wildlife and beneficial insects. This series of workshops looks to provide information\, education and confidence to enable participants to manage their orchards successfully. \nOrchards are iconic features in the Gloucestershire\, Herefordshire and Worcestershire landscape\, but have declined by at least 75 % in the last 50 yrs. The drive to plant new and restore old traditional orchards will help to reverse the decline of this priority habitat and of the wildlife that depends on it. \nWell-managed orchards create an opportunity to make a significant contribution to the wildlife potential in the vicinity. Orchards provide excellent feeding habitat for birds\, bats and invertebrates\, and where adjacent to strong mature hedgerow networks radiating towards nearby mature woodlands\, unimproved grasslands and other orchards\, increase connectivity across the wider landscape. \nTim Andrews of Orchard Revival\, and Gloucestershire Orchard Trust expert\, will be running the workshop. He has many years of experience planting and managing orchards in Gloucestershire and making cider from the produce. \nMaintenance pruning and fruit tree care \n\nLearn how to prune trees safely\, looking at different fruit types and varieties\, and how to manage the trees to reach their full potential.\nQuestions and discussion are encouraged throughout the day.\nThe day includes a strong element of practical work. Stout boots and good outdoor clothing are essential as much of the day will be spent enjoying the elements.\nAll equipment will be provided.\nHot drinks and lunch are also provided\, please let us know of any dietary requirements when signing up.\nThis event is to be held at the Tudor Farmhouse Hotel in Clearwell.\n\nTo see the whole series of workshops we are running this season\, please visit the collection here: https://www.eventbrite.com/cc/orchard-workshops-2912649?utm-campaign=social&utm-content=creatorshare&utm-medium=discovery&utm-term=odclsxcollection&utm-source=cp&aff=escb
URL:https://wildstroud.org/event/orchard-workshop-pruning/
LOCATION:Tudor Farmhouse\, Tudor Farmhouse Hotel\, High Street\, Clearwell\, GL16 8JS
CATEGORIES:Environment,Wildlife & Nature,Workshop
ATTACH;FMTTYPE=image/png:https://wildstroud.org/wp-content/uploads/2026/01/Orchards-through-the-seasons-169.png
ORGANIZER;CN="Severn Treescapes":MAILTO:severntreescapes@gloucestershirewildlifetrust.co.uk
END:VEVENT
END:VCALENDAR